BEGIN:VCALENDAR
VERSION:2.0
PRODID:-//Timber Run Gardens - ECPv6.15.20//NONSGML v1.0//EN
CALSCALE:GREGORIAN
METHOD:PUBLISH
X-WR-CALNAME:Timber Run Gardens
X-ORIGINAL-URL:https://timberrungardens.com
X-WR-CALDESC:Events for Timber Run Gardens
REFRESH-INTERVAL;VALUE=DURATION:PT1H
X-Robots-Tag:noindex
X-PUBLISHED-TTL:PT1H
BEGIN:VTIMEZONE
TZID:America/New_York
BEGIN:DAYLIGHT
TZOFFSETFROM:-0500
TZOFFSETTO:-0400
TZNAME:EDT
DTSTART:20250309T070000
END:DAYLIGHT
BEGIN:STANDARD
TZOFFSETFROM:-0400
TZOFFSETTO:-0500
TZNAME:EST
DTSTART:20251102T060000
END:STANDARD
BEGIN:DAYLIGHT
TZOFFSETFROM:-0500
TZOFFSETTO:-0400
TZNAME:EDT
DTSTART:20260308T070000
END:DAYLIGHT
BEGIN:STANDARD
TZOFFSETFROM:-0400
TZOFFSETTO:-0500
TZNAME:EST
DTSTART:20261101T060000
END:STANDARD
BEGIN:DAYLIGHT
TZOFFSETFROM:-0500
TZOFFSETTO:-0400
TZNAME:EDT
DTSTART:20270314T070000
END:DAYLIGHT
BEGIN:STANDARD
TZOFFSETFROM:-0400
TZOFFSETTO:-0500
TZNAME:EST
DTSTART:20271107T060000
END:STANDARD
END:VTIMEZONE
BEGIN:VEVENT
DTSTART;VALUE=DATE:20260523
DTEND;VALUE=DATE:20260524
DTSTAMP:20260421T205319
CREATED:20260421T144225Z
LAST-MODIFIED:20260421T155754Z
UID:315-1779494400-1779580799@timberrungardens.com
SUMMARY:Bugs And Butterflies May 23 2026
DESCRIPTION:Join us for our super popular kids workshop!
URL:https://timberrungardens.com/event/bugs-and-butterflies-may-23-2026/
LOCATION:Timber Run Gardens\, 4350 W Pike\, Zanesville\, OH\, 43701\, United States
CATEGORIES:Timber Run Gardens
ATTACH;FMTTYPE=image/png:https://timberrungardens.com/wp-content/uploads/2026/04/bugs-and-butterflies.png
END:VEVENT
END:VCALENDAR