BEGIN:VCALENDAR
VERSION:2.0
PRODID:-//Timber Run Gardens - ECPv6.15.20//NONSGML v1.0//EN
CALSCALE:GREGORIAN
METHOD:PUBLISH
X-ORIGINAL-URL:https://timberrungardens.com
X-WR-CALDESC:Events for Timber Run Gardens
REFRESH-INTERVAL;VALUE=DURATION:PT1H
X-Robots-Tag:noindex
X-PUBLISHED-TTL:PT1H
BEGIN:VTIMEZONE
TZID:America/New_York
BEGIN:DAYLIGHT
TZOFFSETFROM:-0500
TZOFFSETTO:-0400
TZNAME:EDT
DTSTART:20250309T070000
END:DAYLIGHT
BEGIN:STANDARD
TZOFFSETFROM:-0400
TZOFFSETTO:-0500
TZNAME:EST
DTSTART:20251102T060000
END:STANDARD
BEGIN:DAYLIGHT
TZOFFSETFROM:-0500
TZOFFSETTO:-0400
TZNAME:EDT
DTSTART:20260308T070000
END:DAYLIGHT
BEGIN:STANDARD
TZOFFSETFROM:-0400
TZOFFSETTO:-0500
TZNAME:EST
DTSTART:20261101T060000
END:STANDARD
BEGIN:DAYLIGHT
TZOFFSETFROM:-0500
TZOFFSETTO:-0400
TZNAME:EDT
DTSTART:20270314T070000
END:DAYLIGHT
BEGIN:STANDARD
TZOFFSETFROM:-0400
TZOFFSETTO:-0500
TZNAME:EST
DTSTART:20271107T060000
END:STANDARD
END:VTIMEZONE
BEGIN:VEVENT
DTSTART;VALUE=DATE:20260808
DTEND;VALUE=DATE:20260809
DTSTAMP:20260421T211047
CREATED:20260421T144916Z
LAST-MODIFIED:20260421T155701Z
UID:328-1786147200-1786233599@timberrungardens.com
SUMMARY:Flower Power August 8
DESCRIPTION:Bouquets and pressed flowers!
URL:https://timberrungardens.com/event/flower-power-august-8/
LOCATION:Timber Run Gardens\, 4350 W Pike\, Zanesville\, OH\, 43701\, United States
CATEGORIES:Timber Run Gardens
ATTACH;FMTTYPE=image/jpeg:https://timberrungardens.com/wp-content/uploads/2026/04/timber-time.jpg
END:VEVENT
END:VCALENDAR